BEGIN:VCALENDAR
VERSION:2.0
PRODID:-//eventon.com NONSGML v1.0//EN
CALSCALE:GREGORIAN
METHOD:PUBLISH
BEGIN:VEVENT
UID:69ea3068baa9c
DTSTAMP:20260423T144456Z
DTSTART:20260509T140000Z
DTEND:20260509T153000Z
LOCATION:Hooglandse Kamer Hooglandse Kerkgracht 58
SUMMARY:Kamervragen: de moedige pedagogiek van Etty Hillesum
DESCRIPTION:‘Het zijn bange tijden\,  mijn God\, ’ schrijft Etty Hilles
 um in haar beroemde oorlogsdagboek\,  medio juli 1942. Aan het einde van di
 e maand zal ze vrijwillig naar Kamp Westerbork vertrekken\,  als hulpverlen
 er namens de Joodse Raad. Onderduiken wil ze pertinent niet\,  hoe vrienden
  ook aandringen. Schrijver en hovenier Jan Oegema schetst[..]\nhttps://www.
 hooglandsekamer.nl/events/kamervragen-de-moedige-pedagogiek-van-etty-hilles
 um/
URL:https://www.hooglandsekamer.nl/events/kamervragen-de-moedige-pedagogiek-van-etty-hillesum/
END:VEVENT
END:VCALENDAR